BEGIN:VCALENDAR
VERSION:2.0
PRODID:-//wp-events-plugin.com//6.5//EN
BEGIN:VEVENT
UID:39-10302@paris.swea.org
DTSTART:20260325T181500Z
DTEND:20260325T203000Z
DTSTAMP:20260311T093711Z
URL:https://paris.swea.org/events/guidat-besok-pa-svenska-institutet-i-par
 is-onsdag-den-25-mars/
SUMMARY:Guidat besök på Svenska Institutet i Paris! Onsdag den 25 mars
DESCRIPTION:Foto: Marja Souquière\nSWEA Paris bjuder in till ett guidat be
 sök på Svenska Institutet i Paris!\nOnsdag den 25 mars kl 18:30\nSvenska
  Institutet i Paris är sedan mer än 50 år ett fantastiskt skyltfönster
  för svensk kultur\, ytterst välbesökt och ett av de mest uppskattade u
 tländska kulturhusen i Paris\, samtidigt en mötesplats för svensk-frans
 ka och internationella kultursamarbeten. Institutet\, eller Centre Culture
 l Suédois\, som det då hette\, invigdes den 2  april 1971 av dåvarande
  Kronprins Carl Gustaf.  Det ligger inbäddat i hjärtat av Maraiskvarter
 en\, inrymt i Hôtel de Marle\, ett vackert 1500-talspalats som är delvis
  kulturminnesmärkt och där du känner historiens vingslag!\n\n2009 fick 
 Svenska Institutet sitt nuvarande namn\, Institut suédois. Det är numera
  Sveriges enda kulturinstitut utomlands. Det bidrar till ökad kännedom o
 m och intresse för Sverige och svensk kultur genom dess omfattande verksa
 mhet med konst- design- och fotoutställningar\, filmvisningar\, debatter\
 , föredrag\, konserter\, kurser i svenska\, dans kring midsommarstången 
 i dess fina  trädgård\, och mycket mera.\n\nSWEA får ett exklusivt gui
 dat besök av Maria Ridelberg-Lemoine\, intendent ansvarig för kulturarvs
 frågor. Vi kommer att få höra mycket spännande och intressant om själ
 va byggnadens historia och naturligtvis om Svenska Institutet\, samt om de
 ss viktiga verksamhet.\n\nOm du längtar efter en kanelbulle eller något 
 annat svenskt innan besöket\, går det alldeles utmärkt att ta en fika p
 å kafé FIKA på Institutets innergård!\n\nBegränsat antal besökande\,
  så ”först till kvarn... ” gäller! Tveka därför inte\, anmäl dig
  snabbt!\n\nTid: Vi träffas onsdag den 25 mars kl 18:15. Vill du fika inn
 an\, kom då tidigare!\nPlats: Svenska Institutet\, 11 rue Payenne\, 75003
  Paris\nMétro: Linje 1 station Saint Paul eller linje 8 station Chemin Ve
 rt\nBuss: 29\, 69\, 76 och 96\n\nKostnad: Ingen kostnad!\n\nAnmälan per m
 ejl till marja.souquiere@yahoo.fr eller per SMS till Marja:  06 13 70 17 
 58  senast den 20 mars
ATTACH;FMTTYPE=image/jpeg:https://paris.swea.org/wp-content/uploads/sites/
 39/2026/03/Sans-titre.jpg
END:VEVENT
END:VCALENDAR